BEGIN:VCALENDAR
VERSION:2.0
PRODID:-//Contratero//ES
CALSCALE:GREGORIAN
METHOD:PUBLISH
BEGIN:VEVENT
UID:UNED BARBASTRO PNSP 1/2026@contratero.es
DTSTAMP:20260421T122407Z
DTSTART:20260417T235959
DTEND:20260418T005959
SUMMARY:Cierre: Servicio integral de soporte técnico de la platafo
DESCRIPTION:Servicio integral de soporte técnico de la plataforma de gestión de procesos de negocio (BPM) ‘AuraQuantic’.\\n\\nOrganismo: Consorcio Universitario del Centro Asociado a la UNED en Barbastro Ramón J Sender\, M.P.\\n\\nVer en Contratero: https://contratero.es/contracts/UNED BARBASTRO PNSP 1/2026
URL:https://contratero.es/contracts/UNED BARBASTRO PNSP 1/2026
STATUS:CONFIRMED
BEGIN:VALARM
TRIGGER:-P1D
ACTION:DISPLAY
DESCRIPTION:Recordatorio: Servicio integral de soporte t
END:VALARM
END:VEVENT
END:VCALENDAR